BEGIN:VCALENDAR
VERSION:2.0
PRODID:icalendar-ruby
CALSCALE:GREGORIAN
METHOD:PUBLISH
BEGIN:VEVENT
DTSTAMP:20260424T120950Z
UID:5-1567217@hollyspringsumc.org
DTSTART:20261101T160000Z
DTEND:20261101T170000Z
CLASS:PUBLIC
CREATED:20260423T231037
DESCRIPTION:
LAST-MODIFIED:20260423T231037
LOCATION:
SUMMARY:Sunday Worship
URL;VALUE=URI:https://www.hollyspringsumc.org/events/sunday-worship/2026-11
 -01
END:VEVENT
END:VCALENDAR
