BEGIN:VCALENDAR
VERSION:2.0
PRODID:icalendar-ruby
CALSCALE:GREGORIAN
METHOD:PUBLISH
BEGIN:VEVENT
DTSTAMP:20260424T085203Z
UID:5-1567215@hollyspringsumc.org
DTSTART:20261018T150000Z
DTEND:20261018T160000Z
CLASS:PUBLIC
CREATED:20260423T231037
DESCRIPTION:
LAST-MODIFIED:20260423T231037
LOCATION:
SUMMARY:Sunday Worship
URL;VALUE=URI:https://www.hollyspringsumc.org/events/sunday-worship/2026-10
 -18
END:VEVENT
END:VCALENDAR
