BEGIN:VCALENDAR
VERSION:2.0
PRODID:icalendar-ruby
CALSCALE:GREGORIAN
METHOD:PUBLISH
BEGIN:VEVENT
DTSTAMP:20260422T014627Z
UID:5-1560730@hollyspringsumc.org
DTSTART:20260927T150000Z
DTEND:20260927T160000Z
CLASS:PUBLIC
CREATED:20260421T212947
DESCRIPTION:
LAST-MODIFIED:20260421T212947
LOCATION:
SUMMARY:Sunday Worship
URL;VALUE=URI:https://www.hollyspringsumc.org/events/sunday-worship/2026-09
 -27
END:VEVENT
END:VCALENDAR
