BEGIN:VCALENDAR
VERSION:2.0
PRODID:icalendar-ruby
CALSCALE:GREGORIAN
METHOD:PUBLISH
BEGIN:VEVENT
DTSTAMP:20260421T233030Z
UID:5-1560189@hollyspringsumc.org
DTSTART:20260920T150000Z
DTEND:20260920T160000Z
CLASS:PUBLIC
CREATED:20260421T185117
DESCRIPTION:
LAST-MODIFIED:20260421T185117
LOCATION:
SUMMARY:Sunday Worship
URL;VALUE=URI:https://www.hollyspringsumc.org/events/sunday-worship/2026-09
 -20
END:VEVENT
END:VCALENDAR
