BEGIN:VCALENDAR
VERSION:2.0
PRODID:icalendar-ruby
CALSCALE:GREGORIAN
METHOD:PUBLISH
BEGIN:VEVENT
DTSTAMP:20260421T214136Z
UID:5-1559648@hollyspringsumc.org
DTSTART:20260913T150000Z
DTEND:20260913T160000Z
CLASS:PUBLIC
CREATED:20260421T161249
DESCRIPTION:
LAST-MODIFIED:20260421T161249
LOCATION:
SUMMARY:Sunday Worship
URL;VALUE=URI:https://www.hollyspringsumc.org/events/sunday-worship/2026-09
 -13
END:VEVENT
END:VCALENDAR
