BEGIN:VCALENDAR
VERSION:2.0
PRODID:icalendar-ruby
CALSCALE:GREGORIAN
METHOD:PUBLISH
BEGIN:VEVENT
DTSTAMP:20260421T200736Z
UID:9-1559168@hollyspringsumc.org
DTSTART:20260914T150000Z
DTEND:20260914T160000Z
CLASS:PUBLIC
CREATED:20260421T133704
DESCRIPTION:
LAST-MODIFIED:20260421T133704
LOCATION:Fellowship Hall
SUMMARY:Monday Morning Ministries
URL;VALUE=URI:https://www.hollyspringsumc.org/events/monday-morning-ministr
 ies/2026-09-14
ATTACH;FILENAME=Mailboxes.jpg;FMTTYPE=image/jpeg:https://dq5pwpg1q8ru0.clou
 dfront.net/2025/08/11/22/50/48/3549bbf1-89a4-40ac-a18c-b8b9d7adfc19/Mailbo
 xes.jpg
END:VEVENT
END:VCALENDAR
