BEGIN:VCALENDAR
VERSION:2.0
PRODID:icalendar-ruby
CALSCALE:GREGORIAN
METHOD:PUBLISH
BEGIN:VEVENT
DTSTAMP:20260424T163847Z
UID:12-1568416@hollyspringsumc.org
DTSTART:20261015T200000Z
DTEND:20261015T210000Z
CLASS:PUBLIC
CREATED:20260424T113126
DESCRIPTION:
LAST-MODIFIED:20260424T113126
LOCATION:Sanctuary
SUMMARY:Choir Practice
URL;VALUE=URI:https://www.hollyspringsumc.org/events/choir-practice/2026-10
 -15
ATTACH;FILENAME=89538-OIUZE4-242.jpg;FMTTYPE=image/jpeg:https://dq5pwpg1q8r
 u0.cloudfront.net/2025/08/16/22/45/35/7d4f5186-c9bf-4540-94fe-3d41ed1083ba
 /89538-OIUZE4-242.jpg
END:VEVENT
END:VCALENDAR
