BEGIN:VCALENDAR
VERSION:2.0
PRODID:icalendar-ruby
CALSCALE:GREGORIAN
METHOD:PUBLISH
BEGIN:VEVENT
DTSTAMP:20260424T043630Z
UID:32-1567379@hollyspringsumc.org
DTSTART:20261101T190000Z
DTEND:20261101T200000Z
CLASS:PUBLIC
CREATED:20260423T231037
DESCRIPTION:
LAST-MODIFIED:20260423T231037
LOCATION:Fellowship Hall
SUMMARY:AA Meeting
URL;VALUE=URI:https://www.hollyspringsumc.org/events/aa-meeting/2026-11-01
END:VEVENT
END:VCALENDAR
