BEGIN:VCALENDAR
VERSION:2.0
PRODID:icalendar-ruby
CALSCALE:GREGORIAN
METHOD:PUBLISH
BEGIN:VEVENT
DTSTAMP:20260423T132308Z
UID:32-1564668@hollyspringsumc.org
DTSTART:20260906T180000Z
DTEND:20260906T190000Z
CLASS:PUBLIC
CREATED:20260423T083859
DESCRIPTION:
LAST-MODIFIED:20260423T083859
LOCATION:Fellowship Hall
SUMMARY:AA Meeting
URL;VALUE=URI:https://www.hollyspringsumc.org/events/aa-meeting/2026-09-06
END:VEVENT
END:VCALENDAR
