BEGIN:VCALENDAR
VERSION:2.0
PRODID:icalendar-ruby
CALSCALE:GREGORIAN
METHOD:PUBLISH
BEGIN:VEVENT
DTSTAMP:20260423T112222Z
UID:32-1564127@hollyspringsumc.org
DTSTART:20260830T180000Z
DTEND:20260830T190000Z
CLASS:PUBLIC
CREATED:20260422T230841
DESCRIPTION:
LAST-MODIFIED:20260422T230841
LOCATION:Fellowship Hall
SUMMARY:AA Meeting
URL;VALUE=URI:https://www.hollyspringsumc.org/events/aa-meeting/2026-08-30
END:VEVENT
END:VCALENDAR
