BEGIN:VCALENDAR
VERSION:2.0
PRODID:icalendar-ruby
CALSCALE:GREGORIAN
METHOD:PUBLISH
BEGIN:VEVENT
DTSTAMP:20260423T074840Z
UID:32-1564125@hollyspringsumc.org
DTSTART:20260816T180000Z
DTEND:20260816T190000Z
CLASS:PUBLIC
CREATED:20260422T230841
DESCRIPTION:
LAST-MODIFIED:20260422T230841
LOCATION:Fellowship Hall
SUMMARY:AA Meeting
URL;VALUE=URI:https://www.hollyspringsumc.org/events/aa-meeting/2026-08-16
END:VEVENT
END:VCALENDAR
