BEGIN:VCALENDAR
VERSION:2.0
PRODID:icalendar-ruby
CALSCALE:GREGORIAN
METHOD:PUBLISH
BEGIN:VEVENT
DTSTAMP:20260423T055224Z
UID:32-1564124@hollyspringsumc.org
DTSTART:20260809T180000Z
DTEND:20260809T190000Z
CLASS:PUBLIC
CREATED:20260422T230841
DESCRIPTION:
LAST-MODIFIED:20260422T230841
LOCATION:Fellowship Hall
SUMMARY:AA Meeting
URL;VALUE=URI:https://www.hollyspringsumc.org/events/aa-meeting/2026-08-09
END:VEVENT
END:VCALENDAR
