BEGIN:VCALENDAR
VERSION:2.0
PRODID:icalendar-ruby
CALSCALE:GREGORIAN
METHOD:PUBLISH
BEGIN:VEVENT
DTSTAMP:20260423T015440Z
UID:32-1563582@hollyspringsumc.org
DTSTART:20260726T180000Z
DTEND:20260726T190000Z
CLASS:PUBLIC
CREATED:20260422T201422
DESCRIPTION:
LAST-MODIFIED:20260422T201422
LOCATION:Fellowship Hall
SUMMARY:AA Meeting
URL;VALUE=URI:https://www.hollyspringsumc.org/events/aa-meeting/2026-07-26
END:VEVENT
END:VCALENDAR
