BEGIN:VCALENDAR
VERSION:2.0
PRODID:icalendar-ruby
CALSCALE:GREGORIAN
METHOD:PUBLISH
BEGIN:VEVENT
DTSTAMP:20260422T235510Z
UID:32-1563041@hollyspringsumc.org
DTSTART:20260719T180000Z
DTEND:20260719T190000Z
CLASS:PUBLIC
CREATED:20260422T172250
DESCRIPTION:
LAST-MODIFIED:20260422T172250
LOCATION:Fellowship Hall
SUMMARY:AA Meeting
URL;VALUE=URI:https://www.hollyspringsumc.org/events/aa-meeting/2026-07-19
END:VEVENT
END:VCALENDAR
